BEGIN:VCALENDAR
VERSION:2.0
PRODID:-//Budo-Club Kamp-Lintfort e.V. - ECPv6.15.20//NONSGML v1.0//EN
CALSCALE:GREGORIAN
METHOD:PUBLISH
X-WR-CALNAME:Budo-Club Kamp-Lintfort e.V.
X-ORIGINAL-URL:https://bc-kali.de
X-WR-CALDESC:Veranstaltungen für Budo-Club Kamp-Lintfort e.V.
REFRESH-INTERVAL;VALUE=DURATION:PT1H
X-Robots-Tag:noindex
X-PUBLISHED-TTL:PT1H
BEGIN:VTIMEZONE
TZID:Europe/Helsinki
BEGIN:DAYLIGHT
TZOFFSETFROM:+0200
TZOFFSETTO:+0300
TZNAME:EEST
DTSTART:20250330T010000
END:DAYLIGHT
BEGIN:STANDARD
TZOFFSETFROM:+0300
TZOFFSETTO:+0200
TZNAME:EET
DTSTART:20251026T010000
END:STANDARD
BEGIN:DAYLIGHT
TZOFFSETFROM:+0200
TZOFFSETTO:+0300
TZNAME:EEST
DTSTART:20260329T010000
END:DAYLIGHT
BEGIN:STANDARD
TZOFFSETFROM:+0300
TZOFFSETTO:+0200
TZNAME:EET
DTSTART:20261025T010000
END:STANDARD
BEGIN:DAYLIGHT
TZOFFSETFROM:+0200
TZOFFSETTO:+0300
TZNAME:EEST
DTSTART:20270328T010000
END:DAYLIGHT
BEGIN:STANDARD
TZOFFSETFROM:+0300
TZOFFSETTO:+0200
TZNAME:EET
DTSTART:20271031T010000
END:STANDARD
END:VTIMEZONE
BEGIN:VEVENT
DTSTART;TZID=Europe/Helsinki:20260308T080000
DTEND;TZID=Europe/Helsinki:20260308T170000
DTSTAMP:20260424T112449
CREATED:20231117T090813Z
LAST-MODIFIED:20251120T102113Z
UID:4522-1772956800-1772989200@bc-kali.de
SUMMARY:Holten Cup
DESCRIPTION:Betreuer: N.N.
URL:https://bc-kali.de/event/holten-cup/
LOCATION:Holten – Günther-Stolz-Sporthalle\, Wilhelmstr. 77\, Oberhausen\, 46145
CATEGORIES:Turnier
ATTACH;FMTTYPE=image/jpeg:https://bc-kali.de/wp-content/uploads/2022/10/Mut_web.jpg
END:VEVENT
BEGIN:VEVENT
DTSTART;TZID=Europe/Helsinki:20260310T170000
DTEND;TZID=Europe/Helsinki:20260310T190000
DTSTAMP:20260424T112449
CREATED:20260303T105050Z
LAST-MODIFIED:20260307T074714Z
UID:5885-1773162000-1773169200@bc-kali.de
SUMMARY:Event im Vereinsraum: Basteln für den Frühling
DESCRIPTION:Lasst uns den Frühling begrüßen\nDamit wir den Frühling und die Vögel begrüßen können\, möchten wir dieses Mal wieder zusammen mit Euch ein bisschen basteln und Vogelfutter herstellen. \nZieht Euch bitte Sachen an\, die auch etwas dreckig werden können. \nDieser Termin ist geplant für die Maxi-Koalas\, die Kids und die Teens. \nWir starten am Dienstag\, den 10. März 2026 um 17.00 Uhr im Vereinsraum. Das Ende ist pünktlich um 19.00 Uhr. \nWir freuen uns auf Euch!\n. \nDie Anmeldung erfolgt über die Homepage. \nDer Anmeldeschluss ist am Freitag\, den 6. März 2026. \nFür die Veranstaltung ist ein Teilnehmerbeitrag von 4\,00 Euro pro Person zu entrichten\, den wir im Nachgang einziehen werden. \nDie Eltern werden gebeten\, die Kinder persönlich im Vereinsraum abzugeben und dort pünktlich wieder abzuholen. \n.
URL:https://bc-kali.de/event/event-im-vereinsraum-basteln-fuer-den-fruehling-2/
CATEGORIES:Vereinsevent
ATTACH;FMTTYPE=image/png:https://bc-kali.de/wp-content/uploads/2026/03/Vogelfutter_2.png
END:VEVENT
BEGIN:VEVENT
DTSTART;TZID=Europe/Helsinki:20260311T180000
DTEND;TZID=Europe/Helsinki:20260311T200000
DTSTAMP:20260424T112449
CREATED:20231117T091314Z
LAST-MODIFIED:20260202T141102Z
UID:4525-1773252000-1773259200@bc-kali.de
SUMMARY:Jahreshauptversammlung
DESCRIPTION:Veranstaltung\nJahreshauptversammlungSenioren EventVereinsraum Event \n \n Dein Nachname\n \n \n Dein Vorname\n \n \n Veranstaltungsdatum\n \n \n Anzahl Teilnehmer\n \n \n Deine Nachricht (optional)\n \n \n Deine E-Mail-Adresse\n \n \n\nHinweis zur Datenverarbeitung!\nMit der Meldung zu einer Veranstaltung erklären sich die Teilnehmer mit der elektronischen Speicherung ihrer relevanten Daten und deren Veröffentlichung in Aushängen\, im Internet und in sonstigen Publikationen des Vereins einverstanden. Gleiches gilt für Bilddokumentationen.\n\n \n\n ×
URL:https://bc-kali.de/event/jahreshauptversammlung/
LOCATION:Vereinsraum – BC Kamp-Lintfort\, Moerser Str. 167\, Kamp-Lintfort\, 47475\, Deutschland
CATEGORIES:Vereinsevent
ATTACH;FMTTYPE=image/png:https://bc-kali.de/wp-content/uploads/2022/09/Budo-Club-Kamp-Lintfort-Logo-Retina_web.png
END:VEVENT
BEGIN:VEVENT
DTSTART;TZID=Europe/Helsinki:20260313T193000
DTEND;TZID=Europe/Helsinki:20260313T230000
DTSTAMP:20260424T112449
CREATED:20260302T060127Z
LAST-MODIFIED:20260302T082302Z
UID:5338-1773430200-1773442800@bc-kali.de
SUMMARY:Seniorenevent im Vereinsraum: Spieleabend
DESCRIPTION:Hallo Senioren\, hier kommt der erste Seniorenabend des Jahres. Am 13.03.2026 wollen wir uns \, um 19:30 Uhr \, mit Euch in unserem Vereinsraum treffen. Wir machen einen gemütlichen Spieleabend. Spielvorschläge bitte mitbringen. Wir organisieren ein paar Knabbereien. Meldet Euch bitte bis zum 11.03.2026\,  damit wir einen Überblick haben wieviele Personen kommen. Für die Veranstaltung ziehen wir einen Unkostenbeitrag von 2 €\, im Anschluss an die Veranstaltung\, ein. \nWir freuen uns auf einen geselligen Abend! \n\n\n  \n\n\n\n Veranstaltung\nJahreshauptversammlungSenioren EventVereinsraum Event \n \n Dein Nachname\n \n \n Dein Vorname\n \n \n Veranstaltungsdatum\n \n \n Anzahl Teilnehmer\n \n \n Deine Nachricht (optional)\n \n \n Deine E-Mail-Adresse\n \n \n\nHinweis zur Datenverarbeitung!\nMit der Meldung zu einer Veranstaltung erklären sich die Teilnehmer mit der elektronischen Speicherung ihrer relevanten Daten und deren Veröffentlichung in Aushängen\, im Internet und in sonstigen Publikationen des Vereins einverstanden. Gleiches gilt für Bilddokumentationen.\n\n \n\n ×
URL:https://bc-kali.de/event/seniorenevent-im-vereinsraum-wir-kochen-gemeinsam/
LOCATION:Vereinsraum – BC Kamp-Lintfort\, Moerser Str. 167\, Kamp-Lintfort\, 47475\, Deutschland
CATEGORIES:Vereinsevent
ATTACH;FMTTYPE=image/jpeg:https://bc-kali.de/wp-content/uploads/2024/05/Gesellschaftsspiele-scaled.jpg
END:VEVENT
BEGIN:VEVENT
DTSTART;TZID=Europe/Helsinki:20260314T090000
DTEND;TZID=Europe/Helsinki:20260314T150000
DTSTAMP:20260424T112449
CREATED:20260225T085332Z
LAST-MODIFIED:20260309T095217Z
UID:5844-1773478800-1773500400@bc-kali.de
SUMMARY:Fussi Turnier
DESCRIPTION:Fussi Turnier\nWir wollen mal wieder auf dem Kleinfeld Fußball spielen. Gespielt wird auf zwei Kleinfeldern möglichst drei gegen drei ohne Torwart. Bei zu wenigen Mannschaften spielen wir eventuell 2 gegen 2. \nJe nach Teilnehmerzahl kämpfen wir im KO System oder Pool System. Jede Mannschaft sollte auf jeden Fall mehrere Spiele haben. \nAnmeldung: \n\nJeder Teilnehmer aus dem Verein meldet sich einzeln an.\nBringt ihr ein nicht Mitglied mit\, so erhöht ihr im Formula die Anzahl der Teilnehmer entsprechen und schreibt in den Kommentar wer mit kommt.\nIn den Kommentaren könnt ihr schreiben\, mit wem ihr zusammenspielen wollt. (z.B. Ronaldo\, Backham\, Pele)\nWir behalten uns vor zu starke Teams aufzuteilen.\nIhr könnt euch einzeln\, zu zweit oder zu dritt anmelden. Wir schauen dann immer das wir dreier Teams zusammenstellen.\nMindestens ein Team Mitglied muss Vereinsmitglied sein.\nWir würden uns freuen wenn ihr hier mit der Familie spielt\, oder einem Freund\, dem ihr den Verein zeigen wollt.\nMeldegeld sind 2\,-€ pro Spieler die wir nach der Anmeldung einziehen.\nBei den Externen ziehen wir das Geld von der Familie ein mit der sich angemeldet wurde.\n\nBeispiel: \n\nZwei oder drei Mitglieder wollen zusammen spielen\n\nJeder meldet sich einzeln an und schreibt in den Kommentar mit wem er spielen möchte\n\n\nEin Mitglied und ein Elternteil wollen zusammen spielen\n\nDas Mitglied meldet sich an\, die Anzahl ist 2 und im Kommentar steht der Name des Nichtmitgliedes. (Mama und Papa sind keine Namen :-))\n\n\n\nDie schönsten Spiele waren die mit Vater / Kind\, Mutter / Kind oder Bruder / Schwester. \nHallenturnschuhe sind Pflicht. Zuschauer sind gerne gesehen und der Eintritt ist kostenlos. \nAuch die Kleinsten sind gefordert\, die Schiedsrichter werden schon aufpassen. Am Ende des Turniers gibt es einen Imbiss für alle Teilnehmer. \nMeldeschluss ist der 06.03.2026
URL:https://bc-kali.de/event/fussi-turnier/
LOCATION:Halle BC Kamp-Lintfort\, Moerser Str. 167\, Kamp-Lintfort\, 47475\, Deutschland
CATEGORIES:Vereinsevent
ATTACH;FMTTYPE=image/png:https://bc-kali.de/wp-content/uploads/2026/02/Screenshot-2026-02-25-092301.png
END:VEVENT
BEGIN:VEVENT
DTSTART;TZID=Europe/Helsinki:20260322T080000
DTEND;TZID=Europe/Helsinki:20260322T110000
DTSTAMP:20260424T112449
CREATED:20221222T121858Z
LAST-MODIFIED:20260316T070811Z
UID:3817-1774166400-1774177200@bc-kali.de
SUMMARY:Kyu - Lehrgang bis zum Gelbgurt
DESCRIPTION:Der Lehrgang richtet sich an alle Judoka mit weißem Gürtel oder weiß-gelbem Gürtel. \nDie Teilnahme am Lehrgang bedeutet nicht\, dass auch an der Prüfung teilgenommen werden kann.\nBei Bestehen der Prüfung werden die 20\,-€ für die Prüfung per Einzug vom Konto abgebucht. \nWir behalten uns vor Eltern aus der Halle zu schicken\, wenn die Anwesenheit die Prüflinge zu stark stört.\n \nAnmeldeschluss ist der Freitag der Vorwoche.  \nACHTUNG: Die Bestätigungsmail landet bei dir eventuell im Spam Ordner
URL:https://bc-kali.de/event/lehrgang-zu-gelb-gelb-orange-orange-schwarz/
LOCATION:Halle BC Kamp-Lintfort\, Moerser Str. 167\, Kamp-Lintfort\, 47475\, Deutschland
CATEGORIES:Lehrgang
ATTACH;FMTTYPE=image/jpeg:https://bc-kali.de/wp-content/uploads/2022/10/Ernsthaftigkeit_web.jpg
END:VEVENT
BEGIN:VEVENT
DTSTART;TZID=Europe/Helsinki:20260322T110000
DTEND;TZID=Europe/Helsinki:20260322T140000
DTSTAMP:20260424T112449
CREATED:20251121T060012Z
LAST-MODIFIED:20251121T060012Z
UID:5686-1774177200-1774188000@bc-kali.de
SUMMARY:Kyu - Prüfung
DESCRIPTION:Kyu Prüfung für Judoka ab Gelbgurt. \nDie Prüfung findet im Anschluss an den Kyu Lehrgang statt. \nDie Anmeldung zur Prüfung erfolgt durch die Trainer.
URL:https://bc-kali.de/event/kyu-pruefung/
LOCATION:Halle BC Kamp-Lintfort\, Moerser Str. 167\, Kamp-Lintfort\, 47475\, Deutschland
CATEGORIES:Lehrgang
ATTACH;FMTTYPE=image/jpeg:https://bc-kali.de/wp-content/uploads/2022/10/Ernsthaftigkeit_web.jpg
END:VEVENT
END:VCALENDAR